BEGIN:VCALENDAR
VERSION:2.0
PRODID:-//Alberta Amateur Wrestling - ECPv6.7.1//NONSGML v1.0//EN
CALSCALE:GREGORIAN
METHOD:PUBLISH
X-WR-CALNAME:Alberta Amateur Wrestling
X-ORIGINAL-URL:https://aawa.ca
X-WR-CALDESC:Events for Alberta Amateur Wrestling
REFRESH-INTERVAL;VALUE=DURATION:PT1H
X-Robots-Tag:noindex
X-PUBLISHED-TTL:PT1H
BEGIN:VTIMEZONE
TZID:America/Edmonton
BEGIN:DAYLIGHT
TZOFFSETFROM:-0700
TZOFFSETTO:-0600
TZNAME:MDT
DTSTART:20220313T090000
END:DAYLIGHT
BEGIN:STANDARD
TZOFFSETFROM:-0600
TZOFFSETTO:-0700
TZNAME:MST
DTSTART:20221106T080000
END:STANDARD
BEGIN:DAYLIGHT
TZOFFSETFROM:-0700
TZOFFSETTO:-0600
TZNAME:MDT
DTSTART:20230312T090000
END:DAYLIGHT
BEGIN:STANDARD
TZOFFSETFROM:-0600
TZOFFSETTO:-0700
TZNAME:MST
DTSTART:20231105T080000
END:STANDARD
END:VTIMEZONE
BEGIN:VEVENT
DTSTART;VALUE=DATE:20230204
DTEND;VALUE=DATE:20230206
DTSTAMP:20260420T082904
CREATED:20220824T152720Z
LAST-MODIFIED:20220824T152720Z
UID:5147-1675468800-1675641599@aawa.ca
SUMMARY:2023 Alberta Open
DESCRIPTION:Registration is now closed \n2023 Alberta Open Event Flyer (click here) \n2023 Alberta Open Age Class Waiver (click here) \n 
URL:https://aawa.ca/event/2023-alberta-open/
LOCATION:Alberta
CATEGORIES:Tournaments
ATTACH;FMTTYPE=:
END:VEVENT
BEGIN:VEVENT
DTSTART;VALUE=DATE:20230129
DTEND;VALUE=DATE:20230205
DTSTAMP:20260420T082904
CREATED:20210809T171147Z
LAST-MODIFIED:20210809T171147Z
UID:4588-1674950400-1675555199@aawa.ca
SUMMARY:2023 Arctic Winter Games
DESCRIPTION:
URL:https://aawa.ca/event/2023-arctic-winter-games/
LOCATION:Alberta
CATEGORIES:Tournaments
ATTACH;FMTTYPE=:
END:VEVENT
BEGIN:VEVENT
DTSTART;TZID=America/Edmonton:20230128T080000
DTEND;TZID=America/Edmonton:20230128T170000
DTSTAMP:20260420T082904
CREATED:20220704T165701Z
LAST-MODIFIED:20220704T165701Z
UID:5096-1674892800-1674925200@aawa.ca
SUMMARY:2023 Golden Bear JH/HS Invitational
DESCRIPTION:To Pre-Register\, click here (Due January 9\, 2023) \nFor pre-registration\, weights do not have to be exact\, but a general idea for numbers is required. \nSenior High is open to all ASAA and other provincially-sanctioned high school teams. \nJunior High is open to all junior high school teams and clubs. \n2023 Golden Bear JH/HS Invitational Event Flyer (click here)
URL:https://aawa.ca/event/2023-golden-bear-jh-hs-invitational/
LOCATION:Alberta
CATEGORIES:Tournaments
ATTACH;FMTTYPE=image/gif:https://aawa.ca/wp-content/uploads/2014/10/fliplogo.gif
END:VEVENT
BEGIN:VEVENT
DTSTART;TZID=America/Edmonton:20230127T160000
DTEND;TZID=America/Edmonton:20230128T170000
DTSTAMP:20260420T082904
CREATED:20221101T195147Z
LAST-MODIFIED:20221101T195147Z
UID:5239-1674835200-1674925200@aawa.ca
SUMMARY:2023 Cobra Classic
DESCRIPTION:2023 Cobra Classic Event Flyer (click here)
URL:https://aawa.ca/event/2023-cobra-classic/
LOCATION:Alberta
CATEGORIES:Tournaments
ATTACH;FMTTYPE=:
END:VEVENT
BEGIN:VEVENT
DTSTART;TZID=America/Edmonton:20230121T090000
DTEND;TZID=America/Edmonton:20230121T170000
DTSTAMP:20260420T082905
CREATED:20221124T170122Z
LAST-MODIFIED:20221124T170122Z
UID:5290-1674291600-1674320400@aawa.ca
SUMMARY:2023 Junior Olympics
DESCRIPTION:To Register\, Click Here
URL:https://aawa.ca/event/2023-junior-olympics/
LOCATION:Alberta
CATEGORIES:Tournaments
ATTACH;FMTTYPE=:
END:VEVENT
BEGIN:VEVENT
DTSTART;TZID=America/Edmonton:20230114T100000
DTEND;TZID=America/Edmonton:20230115T120000
DTSTAMP:20260420T082905
CREATED:20230106T173025Z
LAST-MODIFIED:20230106T173025Z
UID:5336-1673690400-1673784000@aawa.ca
SUMMARY:2023 Arctic Winter Games Preparation Camp
DESCRIPTION:2023 Arctic Winter Games Preparation Camp Flyer (click here) \n2023 Arctic Winter Games Preparation Camp Waiver (click here)
URL:https://aawa.ca/event/2023-arctic-winter-games-preparation-camp/
LOCATION:Alberta
CATEGORIES:Camps & Clinics
ATTACH;FMTTYPE=:
END:VEVENT
BEGIN:VEVENT
DTSTART;VALUE=DATE:20230113
DTEND;VALUE=DATE:20230115
DTSTAMP:20260420T082905
CREATED:20220704T165519Z
LAST-MODIFIED:20220704T165519Z
UID:5094-1673568000-1673740799@aawa.ca
SUMMARY:2023 Golden Bear Invitational
DESCRIPTION:
URL:https://aawa.ca/event/2023-golden-bear-invitational/
LOCATION:Alberta
CATEGORIES:Tournaments
ATTACH;FMTTYPE=image/gif:https://aawa.ca/wp-content/uploads/2014/10/fliplogo.gif
END:VEVENT
BEGIN:VEVENT
DTSTART;TZID=America/Edmonton:20230107T143000
DTEND;TZID=America/Edmonton:20230108T170000
DTSTAMP:20260420T082905
CREATED:20220913T171756Z
LAST-MODIFIED:20220913T171756Z
UID:5178-1673101800-1673197200@aawa.ca
SUMMARY:2023 Dinos Cup Provincial Duals & Jurassic Classic
DESCRIPTION:2023 Dinos Cup and Jurassic Classic Event Flyer (click here) \nJurassic Classic & Dinos Cup Host Hotel Info (click here) – Book by December 3\, 2022 \n2023 Jurassic Classic Club Intent to Compete Form (click here) – Due December 16\, 2022 \n2023 Dinos Cup PTSO Intent to Compete Form (click here) – Due December 16\, 2022 \n2023 Dinos Cup Team Alberta Athlete Interest Form (click here) – Due December 16\, 2022 \n  \n 
URL:https://aawa.ca/event/2022dinos-cup-jurassic-classic/
LOCATION:Alberta
CATEGORIES:Tournaments
ATTACH;FMTTYPE=image/jpeg:https://aawa.ca/wp-content/uploads/2014/10/Unknown-1.jpeg
END:VEVENT
BEGIN:VEVENT
DTSTART;VALUE=DATE:20230104
DTEND;VALUE=DATE:20230107
DTSTAMP:20260420T082905
CREATED:20221211T014816Z
LAST-MODIFIED:20221211T014816Z
UID:5310-1672790400-1673049599@aawa.ca
SUMMARY:2023 Dinos New Years Camp
DESCRIPTION:
URL:https://aawa.ca/event/2023-dinos-new-years-camp/
LOCATION:Alberta
CATEGORIES:Camps & Clinics
ATTACH;FMTTYPE=image/jpeg:https://aawa.ca/wp-content/uploads/2014/10/Unknown-1.jpeg
END:VEVENT
BEGIN:VEVENT
DTSTART;TZID=America/Edmonton:20221209T150000
DTEND;TZID=America/Edmonton:20221210T170000
DTSTAMP:20260420T082905
CREATED:20220913T172042Z
LAST-MODIFIED:20220913T172042Z
UID:5181-1670598000-1670691600@aawa.ca
SUMMARY:2022 Pearson Rumble
DESCRIPTION:2022 Pearson Rumble Event Flyer (click here)
URL:https://aawa.ca/event/2022-pearson-rumble/
LOCATION:Alberta
CATEGORIES:Tournaments
ATTACH;FMTTYPE=:
END:VEVENT
BEGIN:VEVENT
DTSTART;TZID=America/Edmonton:20221209T130000
DTEND;TZID=America/Edmonton:20221210T170000
DTSTAMP:20260420T082905
CREATED:20221103T184416Z
LAST-MODIFIED:20221103T184416Z
UID:5257-1670590800-1670691600@aawa.ca
SUMMARY:2022 Wetaskiwin Classic
DESCRIPTION:2022 Wetaskiwin Classic Event Flyer (click here)
URL:https://aawa.ca/event/2022-wetaskiwin-classic/
LOCATION:Alberta
CATEGORIES:Tournaments
ATTACH;FMTTYPE=image/jpeg:https://aawa.ca/wp-content/uploads/2014/09/wetaskiwin-sabre-head1-e1571497486989.jpg
END:VEVENT
BEGIN:VEVENT
DTSTART;TZID=America/Edmonton:20221203T100000
DTEND;TZID=America/Edmonton:20221203T170000
DTSTAMP:20260420T082905
CREATED:20221005T041447Z
LAST-MODIFIED:20221005T041447Z
UID:5200-1670061600-1670086800@aawa.ca
SUMMARY:2022 Cardston Cougar Classic
DESCRIPTION:2022 Cardston Cougar Open Event Flyer (click here)
URL:https://aawa.ca/event/2022-cardston-cougar-classic/
LOCATION:Alberta
CATEGORIES:Tournaments
ATTACH;FMTTYPE=:
END:VEVENT
BEGIN:VEVENT
DTSTART;TZID=America/Edmonton:20221203T090000
DTEND;TZID=America/Edmonton:20221203T170000
DTSTAMP:20260420T082905
CREATED:20221101T195523Z
LAST-MODIFIED:20221101T195523Z
UID:5242-1670058000-1670086800@aawa.ca
SUMMARY:2023 Arctic Winter Games Trials
DESCRIPTION:2023 Arctic Winter Games Trials Event Flyer (click here)
URL:https://aawa.ca/event/2023-arctic-winter-games-trials/
LOCATION:Alberta
CATEGORIES:Tournaments
ATTACH;FMTTYPE=:
END:VEVENT
BEGIN:VEVENT
DTSTART;TZID=America/Edmonton:20221202T140000
DTEND;TZID=America/Edmonton:20221203T170000
DTSTAMP:20260420T082905
CREATED:20221024T154018Z
LAST-MODIFIED:20221024T154018Z
UID:5215-1669989600-1670086800@aawa.ca
SUMMARY:2022 Rams Royal Rumble
DESCRIPTION:2022 Rams Royal Rumble Event Flyer (click here)
URL:https://aawa.ca/event/2022-rams-royal-rumble/
LOCATION:Alberta
CATEGORIES:Tournaments
ATTACH;FMTTYPE=:
END:VEVENT
BEGIN:VEVENT
DTSTART;TZID=America/Edmonton:20221126T093000
DTEND;TZID=America/Edmonton:20221126T170000
DTSTAMP:20260420T082905
CREATED:20221107T220724Z
LAST-MODIFIED:20221107T220724Z
UID:5262-1669455000-1669482000@aawa.ca
SUMMARY:2022 Huskie Open
DESCRIPTION:2022 Huskie Open Event Flyer (click here)
URL:https://aawa.ca/event/2022-huskie-open/
LOCATION:Alberta
CATEGORIES:Tournaments
ATTACH;FMTTYPE=image/jpeg:https://aawa.ca/wp-content/uploads/2014/10/images1.jpeg
END:VEVENT
BEGIN:VEVENT
DTSTART;TZID=America/Edmonton:20221125T160000
DTEND;TZID=America/Edmonton:20221125T193000
DTSTAMP:20260420T082905
CREATED:20221101T150131Z
LAST-MODIFIED:20221101T150131Z
UID:5233-1669392000-1669404600@aawa.ca
SUMMARY:2022 Hound Classic
DESCRIPTION:2022 Hound Classic Event Flyer (click here)
URL:https://aawa.ca/event/2022-hound-classic/
LOCATION:Alberta
CATEGORIES:Tournaments
ATTACH;FMTTYPE=image/jpeg:https://aawa.ca/wp-content/uploads/2014/10/images1.jpeg
END:VEVENT
BEGIN:VEVENT
DTSTART;TZID=America/Edmonton:20221118T170000
DTEND;TZID=America/Edmonton:20221119T170000
DTSTAMP:20260420T082905
CREATED:20220913T172259Z
LAST-MODIFIED:20220913T172259Z
UID:5183-1668790800-1668877200@aawa.ca
SUMMARY:2022 Golden Bears Takedown Tournament
DESCRIPTION:To Register\, Click Here
URL:https://aawa.ca/event/2022-golden-bears-takedown-tournament/
LOCATION:Alberta
CATEGORIES:Tournaments
ATTACH;FMTTYPE=image/gif:https://aawa.ca/wp-content/uploads/2014/10/fliplogo.gif
END:VEVENT
BEGIN:VEVENT
DTSTART;TZID=America/Edmonton:20221116T194500
DTEND;TZID=America/Edmonton:20221116T210000
DTSTAMP:20260420T082905
CREATED:20221025T172136Z
LAST-MODIFIED:20221025T172136Z
UID:5221-1668627900-1668632400@aawa.ca
SUMMARY:Edmonton Officiating Clinic
DESCRIPTION:
URL:https://aawa.ca/event/edmonton-officiating-clinic/
LOCATION:Alberta
CATEGORIES:Camps & Clinics
ATTACH;FMTTYPE=:
END:VEVENT
BEGIN:VEVENT
DTSTART;TZID=America/Edmonton:20221023T090000
DTEND;TZID=America/Edmonton:20221023T170000
DTSTAMP:20260420T082905
CREATED:20220704T164903Z
LAST-MODIFIED:20220704T164903Z
UID:5092-1666515600-1666544400@aawa.ca
SUMMARY:2022 Dino Invitational
DESCRIPTION:2022 Dinos Invitational Event Flyer (click here) \n2022-2023 University of Calgary Dinos Host Hotel Info Sheet (click here)
URL:https://aawa.ca/event/2022-dino-invitational/
LOCATION:Alberta
CATEGORIES:Tournaments
ATTACH;FMTTYPE=image/jpeg:https://aawa.ca/wp-content/uploads/2014/10/Unknown-1.jpeg
END:VEVENT
BEGIN:VEVENT
DTSTART;TZID=America/Edmonton:20220924T100000
DTEND;TZID=America/Edmonton:20220924T140000
DTSTAMP:20260420T082905
CREATED:20220826T144501Z
LAST-MODIFIED:20220826T144501Z
UID:5155-1664013600-1664028000@aawa.ca
SUMMARY:2022 AAWA AGM
DESCRIPTION:2022 AAWA AGM Notice (click here)
URL:https://aawa.ca/event/2022-aawa-agm/
LOCATION:Alberta
CATEGORIES:Meetings
ATTACH;FMTTYPE=:
END:VEVENT
BEGIN:VEVENT
DTSTART;TZID=America/Edmonton:20220910T143000
DTEND;TZID=America/Edmonton:20220910T153000
DTSTAMP:20260420T082905
CREATED:20220830T183123Z
LAST-MODIFIED:20220830T183123Z
UID:5166-1662820200-1662823800@aawa.ca
SUMMARY:High School Officiating Clinic
DESCRIPTION:
URL:https://aawa.ca/event/high-school-officiating-clinic/
LOCATION:Alberta
CATEGORIES:Camps & Clinics
END:VEVENT
BEGIN:VEVENT
DTSTART;TZID=America/Edmonton:20220910T123000
DTEND;TZID=America/Edmonton:20220910T133000
DTSTAMP:20260420T082905
CREATED:20220830T182953Z
LAST-MODIFIED:20220830T182953Z
UID:5164-1662813000-1662816600@aawa.ca
SUMMARY:Junior High Officiating Clinic
DESCRIPTION:
URL:https://aawa.ca/event/junior-high-officiating-clinic/
LOCATION:Alberta
CATEGORIES:Camps & Clinics
END:VEVENT
BEGIN:VEVENT
DTSTART;TZID=America/Edmonton:20220910T100000
DTEND;TZID=America/Edmonton:20220911T200000
DTSTAMP:20260420T082905
CREATED:20220808T024853Z
LAST-MODIFIED:20220808T024853Z
UID:5127-1662804000-1662926400@aawa.ca
SUMMARY:Cityscape Season Opener Fitness Camp
DESCRIPTION:
URL:https://aawa.ca/event/cityscape-season-opener-fitness-camp/
LOCATION:Alberta
CATEGORIES:Camps & Clinics
ATTACH;FMTTYPE=:
END:VEVENT
BEGIN:VEVENT
DTSTART;VALUE=DATE:20220805
DTEND;VALUE=DATE:20220815
DTSTAMP:20260420T082905
CREATED:20210611T043953Z
LAST-MODIFIED:20210611T043953Z
UID:4493-1659657600-1660521599@aawa.ca
SUMMARY:2022 Canada Summer Games
DESCRIPTION:Details TBA
URL:https://aawa.ca/event/2022-canada-summer-games/
LOCATION:Alberta
CATEGORIES:Tournaments
ATTACH;FMTTYPE=:
END:VEVENT
BEGIN:VEVENT
DTSTART;VALUE=DATE:20220717
DTEND;VALUE=DATE:20220723
DTSTAMP:20260420T082905
CREATED:20220228T194351Z
LAST-MODIFIED:20220228T194351Z
UID:4957-1658016000-1658534399@aawa.ca
SUMMARY:Battle in the Rockies Camp
DESCRIPTION:To Register\, Click Here \nBattle in the Rockies Event Flyer (click here)
URL:https://aawa.ca/event/battle-in-the-rockies-camp-2/
LOCATION:Alberta
CATEGORIES:Camps & Clinics
ATTACH;FMTTYPE=:
END:VEVENT
BEGIN:VEVENT
DTSTART;VALUE=DATE:20220707
DTEND;VALUE=DATE:20220711
DTSTAMP:20260420T082905
CREATED:20220228T194440Z
LAST-MODIFIED:20220228T194440Z
UID:4959-1657152000-1657497599@aawa.ca
SUMMARY:Cochrane Cowboys Summer Camp
DESCRIPTION:2022 Cochrane Cowboys Summer Camp Event Flyer (click here) \nTo Register\, Click Here \nGeneral Information (click here)
URL:https://aawa.ca/event/cochrane-camp/
LOCATION:Alberta
CATEGORIES:Camps & Clinics
ATTACH;FMTTYPE=:
END:VEVENT
BEGIN:VEVENT
DTSTART;VALUE=DATE:20220702
DTEND;VALUE=DATE:20220703
DTSTAMP:20260420T082905
CREATED:20210611T041257Z
LAST-MODIFIED:20210611T041257Z
UID:4482-1656720000-1656806399@aawa.ca
SUMMARY:2022 Canada Cup
DESCRIPTION:Details TBA
URL:https://aawa.ca/event/2022-canada-cup/
LOCATION:Alberta
ATTACH;FMTTYPE=image/jpeg:https://aawa.ca/wp-content/uploads/2014/08/WCL-e1571862012870.jpg
END:VEVENT
BEGIN:VEVENT
DTSTART;VALUE=DATE:20220609
DTEND;VALUE=DATE:20220613
DTSTAMP:20260420T082905
CREATED:20210611T040935Z
LAST-MODIFIED:20210611T040935Z
UID:4479-1654732800-1655078399@aawa.ca
SUMMARY:2022 Canadian U15/U17/U19 Championships
DESCRIPTION:Sanction Fee\n\n\n\nA reminder that a $125 sanction fee will be invoiced to each club for each participant at the Trials/Nationals. This fee is not charged twice if a participant is involved in both national events. Only Independent athletes will be invoiced directly.\n\nRegistration \n\n\nSince Alberta is already using Interpodia\, by logging into your account created for AAWA membership\, much of the preliminary information will already be saved in the system\nIf you are not yet an AAWA member for 2022\, you must complete your membership first\n\nDeadline:\n\n\nRegistration closes May 22nd at 9:59 MT\n\n\nSafe Sport Training\n\n\n\nA reminder that ALL participants\, including athletes\, must have safe sport training complete through the NCCP Locker by the deadline\n\n\n\n2022 U15/U17/U19 Canadian Championships Technical Package (click here) \nRegistration Checklist (click here) \nAthlete Registration (click here) \nCoach\, Officials\, Team Leader\, Medic Registration (click here)
URL:https://aawa.ca/event/2022-canadian-u15-u17-u19-championships/
LOCATION:Alberta
CATEGORIES:Tournaments
ATTACH;FMTTYPE=image/jpeg:https://aawa.ca/wp-content/uploads/2014/08/WCL-e1571862012870.jpg
END:VEVENT
BEGIN:VEVENT
DTSTART;VALUE=DATE:20220526
DTEND;VALUE=DATE:20220530
DTSTAMP:20260420T082905
CREATED:20210611T040619Z
LAST-MODIFIED:20210611T040619Z
UID:4477-1653523200-1653868799@aawa.ca
SUMMARY:2022 Cadet/Junior/Senior Canadian Team Trials
DESCRIPTION:Sanction Fee\n\n\n\nA reminder that a $125 sanction fee will be invoiced to each club for each participant at the Trials/Nationals. This fee is not charged twice if a participant is involved in both national events. Only Independent athletes will be invoiced directly.\n\nRegistration \n\n\nSince Alberta is already using Interpodia\, by logging into your account created for AAWA membership\, much of the preliminary information will already be saved in the system\nIf you are not yet an AAWA member for 2022\, you must complete your membership first\n\nDeadline:\n\n\nEarly registration closes May 2nd at 9:59 MT\nLate registration closes May 9th at 9:59 MT\n\n\nSafe Sport Training\n\n\n\nA reminder that ALL participants\, including athletes\, must have safe sport training complete through the NCCP Locker by the deadline\n\n  \n\n\nTechnical Package (click here) \nRegistration Checklist (click here) \nAthlete Registration (click here) \nCoach\, Official\, Team Leader\, Medical Registration (click here) \n 
URL:https://aawa.ca/event/2022-ca-team-trials/
LOCATION:Alberta
CATEGORIES:Tournaments
ATTACH;FMTTYPE=image/jpeg:https://aawa.ca/wp-content/uploads/2014/08/WCL-e1571862012870.jpg
END:VEVENT
BEGIN:VEVENT
DTSTART;TZID=America/Edmonton:20220521T120000
DTEND;TZID=America/Edmonton:20220522T140000
DTSTAMP:20260420T082905
CREATED:20220502T033605Z
LAST-MODIFIED:20220502T033605Z
UID:5039-1653134400-1653228000@aawa.ca
SUMMARY:2022 Nationals Prep Camp
DESCRIPTION:2022 National Championships Prep Camp Event Flyer (click here) \n2022 National Prep Camp Waiver (click here)
URL:https://aawa.ca/event/2022-nationals-prep-camp/
LOCATION:Alberta
CATEGORIES:Camps & Clinics
ATTACH;FMTTYPE=image/jpeg:https://aawa.ca/wp-content/uploads/2014/09/wetaskiwin-sabre-head1-e1571497486989.jpg
END:VEVENT
END:VCALENDAR