BEGIN:VCALENDAR
VERSION:2.0
PRODID:-//Alberta Amateur Wrestling - ECPv6.7.1//NONSGML v1.0//EN
CALSCALE:GREGORIAN
METHOD:PUBLISH
X-WR-CALNAME:Alberta Amateur Wrestling
X-ORIGINAL-URL:https://aawa.ca
X-WR-CALDESC:Events for Alberta Amateur Wrestling
REFRESH-INTERVAL;VALUE=DURATION:PT1H
X-Robots-Tag:noindex
X-PUBLISHED-TTL:PT1H
BEGIN:VTIMEZONE
TZID:UTC
BEGIN:STANDARD
TZOFFSETFROM:+0000
TZOFFSETTO:+0000
TZNAME:UTC
DTSTART:20230101T000000
END:STANDARD
TZID:America/Edmonton
BEGIN:DAYLIGHT
TZOFFSETFROM:-0700
TZOFFSETTO:-0600
TZNAME:MDT
DTSTART:20220313T090000
END:DAYLIGHT
BEGIN:STANDARD
TZOFFSETFROM:-0600
TZOFFSETTO:-0700
TZNAME:MST
DTSTART:20221106T080000
END:STANDARD
BEGIN:DAYLIGHT
TZOFFSETFROM:-0700
TZOFFSETTO:-0600
TZNAME:MDT
DTSTART:20230312T090000
END:DAYLIGHT
BEGIN:STANDARD
TZOFFSETFROM:-0600
TZOFFSETTO:-0700
TZNAME:MST
DTSTART:20231105T080000
END:STANDARD
END:VTIMEZONE
BEGIN:VEVENT
DTSTART;TZID=UTC:20231104T110000
DTEND;TZID=UTC:20231105T130000
DTSTAMP:20260420T011019
CREATED:20230906T222347Z
LAST-MODIFIED:20231026T085502Z
UID:7359-1699095600-1699189200@aawa.ca
SUMMARY:2023 TMD High Performance Camp
DESCRIPTION:
URL:https://aawa.ca/event/2023-tmd-high-performance-camp/
LOCATION:Sir Winston Churchill High School\, 5220 Northland Drive NW\, Calgary\, Alberta\, T2L 2J6\, Canada
CATEGORIES:Camps & Clinics
ATTACH;FMTTYPE=image/jpeg:https://aawa.ca/wp-content/uploads/2023/09/TMD-HIGH-PERFORMANCE-CAMP-1.jpg
ORGANIZER;CN="Mike Dunn":MAILTO:mikedunn@persona.ca
END:VEVENT
BEGIN:VEVENT
DTSTART;VALUE=DATE:20231104
DTEND;VALUE=DATE:20231105
DTSTAMP:20260420T011019
CREATED:20230906T221223Z
LAST-MODIFIED:20230906T221223Z
UID:7354-1699056000-1699142399@aawa.ca
SUMMARY:2023 SFU Open
DESCRIPTION:
URL:https://aawa.ca/event/2023-sfu-open/
LOCATION:SFU\, Burnaby\, British Columbia\, Canada
CATEGORIES:Tournaments
ATTACH;FMTTYPE=image/jpeg:https://aawa.ca/wp-content/uploads/2014/10/5-31-2011-2-55-43-PM-8737040.jpg
ORGANIZER;CN="Justin Abdou":MAILTO:jabdou@sfu.ca
END:VEVENT
BEGIN:VEVENT
DTSTART;VALUE=DATE:20231101
DTEND;VALUE=DATE:20231105
DTSTAMP:20260420T011019
CREATED:20230906T220806Z
LAST-MODIFIED:20230906T220951Z
UID:7351-1698796800-1699142399@aawa.ca
SUMMARY:2023 Pan-American Games
DESCRIPTION:
URL:https://aawa.ca/event/2023-pan-american-games/
LOCATION:Santiago\, Santiago
CATEGORIES:Tournaments
ATTACH;FMTTYPE=image/png:https://aawa.ca/wp-content/uploads/2015/05/photo.jpg-e1432701450123.png
END:VEVENT
BEGIN:VEVENT
DTSTART;TZID=UTC:20231022T093000
DTEND;TZID=UTC:20231022T133000
DTSTAMP:20260420T011019
CREATED:20230920T000156Z
LAST-MODIFIED:20230920T000156Z
UID:7559-1697967000-1697981400@aawa.ca
SUMMARY:Team Alberta Provincial Program Camp
DESCRIPTION:October 2023 Calgary Team Alberta Provincial Program Camp Flyer (Click Here) \nTo register for the 2023-2024 Team Alberta Provincial Program\, CLICK HERE \nTo register for the camp\, CLICK HERE \n 
URL:https://aawa.ca/event/team-alberta-provincial-program-camp/
LOCATION:University of Calgary Wrestling Room\, 2500 University Drive NW\, Calgary\, Alberta\, T2N 1N4\, Canada
CATEGORIES:Camps & Clinics
ATTACH;FMTTYPE=image/jpeg:https://aawa.ca/wp-content/uploads/2022/10/cropped-2015-AAWA-FB-Profile-Logo-1.jpeg
ORGANIZER;CN="AAWA":MAILTO:info@aawa.ca
END:VEVENT
BEGIN:VEVENT
DTSTART;TZID=UTC:20231021T090000
DTEND;TZID=UTC:20231021T170000
DTSTAMP:20260420T011019
CREATED:20230906T215311Z
LAST-MODIFIED:20230919T045103Z
UID:7342-1697878800-1697907600@aawa.ca
SUMMARY:2023 Dino Invitational
DESCRIPTION:2023 Dinos Invitational Event Flyer (Click Here)
URL:https://aawa.ca/event/2023-dino-invitational/
LOCATION:University of Calgary Red Gym\, 2500 University Drive NW\, Calgary\, Alberta\, T2N 1N4\, Canada
CATEGORIES:Tournaments
ATTACH;FMTTYPE=image/jpeg:https://aawa.ca/wp-content/uploads/2014/10/Unknown-1.jpeg
ORGANIZER;CN="Mitch Ostberg":MAILTO:ostberg@ucalgary.ca
END:VEVENT
BEGIN:VEVENT
DTSTART;TZID=UTC:20230929T170000
DTEND;TZID=UTC:20231001T150000
DTSTAMP:20260420T011019
CREATED:20230909T040730Z
LAST-MODIFIED:20230909T040730Z
UID:7454-1696006800-1696172400@aawa.ca
SUMMARY:2023 EWC Pre-Season Wrestling Camp
DESCRIPTION:To Register\, Click Here
URL:https://aawa.ca/event/2023-ewc-pre-season-wrestling-camp/
LOCATION:University of Alberta Wrestling Room\, 11440 87 Ave NW\, Edmonton\, Alberta\, T6G 1C9\, Canada
CATEGORIES:Camps & Clinics
ATTACH;FMTTYPE=image/gif:https://aawa.ca/wp-content/uploads/2014/10/fliplogo.gif
ORGANIZER;CN="Owen Dawkins":MAILTO:odawkins@ualberta.ca
END:VEVENT
BEGIN:VEVENT
DTSTART;VALUE=DATE:20230916
DTEND;VALUE=DATE:20230925
DTSTAMP:20260420T011019
CREATED:20230906T220308Z
LAST-MODIFIED:20230906T220920Z
UID:7346-1694822400-1695599999@aawa.ca
SUMMARY:2023 Senior World Championships
DESCRIPTION:
URL:https://aawa.ca/event/2023-senior-world-championships/
LOCATION:Stark Arena\, Belgrade\, Serbia
CATEGORIES:Tournaments
ATTACH;FMTTYPE=image/png:https://aawa.ca/wp-content/uploads/2015/05/photo.jpg-e1432701450123.png
END:VEVENT
BEGIN:VEVENT
DTSTART;TZID=UTC:20230909T100000
DTEND;TZID=UTC:20230909T170000
DTSTAMP:20260420T011019
CREATED:20230818T080051Z
LAST-MODIFIED:20230818T080051Z
UID:7310-1694253600-1694278800@aawa.ca
SUMMARY:2023 AAWA AGM
DESCRIPTION:2023 AAWA AGM Notice (click here)
URL:https://aawa.ca/event/2023-aawa-agm/
LOCATION:iHotel & Conference Centre\, 6500 67 Street\, Red Deer\, Alberta\, T4P 1A2\, Canada
CATEGORIES:Meetings
ATTACH;FMTTYPE=image/jpeg:https://aawa.ca/wp-content/uploads/2022/10/cropped-2015-AAWA-FB-Profile-Logo-1.jpeg
END:VEVENT
BEGIN:VEVENT
DTSTART;VALUE=DATE:20230715
DTEND;VALUE=DATE:20230724
DTSTAMP:20260420T011019
CREATED:20220704T170440Z
LAST-MODIFIED:20220704T170440Z
UID:5100-1689379200-1690156799@aawa.ca
SUMMARY:2023 North American Indigenous Games
DESCRIPTION:2023 NAIG Wrestling Technical Package (click here) \n \n\nAlberta Wrestling and the Indigenous Sport Council of Alberta are excited to announce that Team Alberta will be sending athletes to the 2023 North American Indigenous Games in Nova Scotia next July! Coaches Shawn Daye-Finley and Taylor McPherson will be heading up the program and are seeking any interested eligible athletes born 2004-2008. Please visit the following link to confirm your eligibility and express your interest in competing at the event.\n\n\n\nhttps://forms.gle/Ki4PjGJSmZi7JxfQ9
URL:https://aawa.ca/event/2023-north-american-indigenous-games/
CATEGORIES:Tournaments
ATTACH;FMTTYPE=:
END:VEVENT
BEGIN:VEVENT
DTSTART;VALUE=DATE:20230709
DTEND;VALUE=DATE:20230715
DTSTAMP:20260420T011019
CREATED:20230627T065447Z
LAST-MODIFIED:20230627T065527Z
UID:7192-1688860800-1689379199@aawa.ca
SUMMARY:2023 Battle in the Rockies Wrestling Camp
DESCRIPTION:2023 Battle in the Rockies Wrestling Camp Flyer (click here) \nTo Register\, Click Here
URL:https://aawa.ca/event/2023-battle-in-the-rockies-wrestling-camp/
LOCATION:Rocky Regional Recreation Centre\, 5332 50 Street\, Rocky Mountain House\, Alberta\, T4T 1G7\, Canada
CATEGORIES:Camps & Clinics
ATTACH;FMTTYPE=image/jpeg:https://aawa.ca/wp-content/uploads/2023/06/2023-Battle-in-the-Rockies-Wrestling-Camp-Flyer-1-scaled.jpg
ORGANIZER;CN="Owen Dawkins":MAILTO:odawkins@ualberta.ca
END:VEVENT
BEGIN:VEVENT
DTSTART;TZID=UTC:20230707T190000
DTEND;TZID=UTC:20230708T210000
DTSTAMP:20260420T011019
CREATED:20230627T081143Z
LAST-MODIFIED:20230627T081329Z
UID:7199-1688756400-1688850000@aawa.ca
SUMMARY:University of Lethbridge Wrestling Clinic
DESCRIPTION:University of Lethbridge Wrestling Clinic Flyer (click here) \nTo Register\, Click Here \n 
URL:https://aawa.ca/event/university-of-lethbridge-clinic/
LOCATION:1st Choice Savings Centre for Sport & Wellness\, 23 Pronghorn Way W\, Lethbridge\, Alberta\, Canada
CATEGORIES:Camps & Clinics
ATTACH;FMTTYPE=image/jpeg:https://aawa.ca/wp-content/uploads/2023/06/July-UofL-Camp-Flyer.jpg
ORGANIZER;CN="Shawn Daye-Finley":MAILTO:horns.wrestling@uleth.ca
END:VEVENT
BEGIN:VEVENT
DTSTART;VALUE=DATE:20230527
DTEND;VALUE=DATE:20230529
DTSTAMP:20260420T011019
CREATED:20221124T170817Z
LAST-MODIFIED:20221124T170817Z
UID:5296-1685145600-1685318399@aawa.ca
SUMMARY:2023 U23 Wrestling Championships & Senior Non-Olympic World Team Trials
DESCRIPTION:Information TBA
URL:https://aawa.ca/event/2023-u23-wrestling-championships-senior-non-olympic-world-team-trials/
CATEGORIES:Tournaments
ATTACH;FMTTYPE=image/jpeg:https://aawa.ca/wp-content/uploads/2014/08/WCL-e1571862012870.jpg
END:VEVENT
BEGIN:VEVENT
DTSTART;VALUE=DATE:20230324
DTEND;VALUE=DATE:20230327
DTSTAMP:20260420T011019
CREATED:20220704T160547Z
LAST-MODIFIED:20220704T160547Z
UID:5071-1679616000-1679875199@aawa.ca
SUMMARY:2023 U15/U17/U19 Canadian Wrestling Championships
DESCRIPTION:Technical Package (click here) \nRegistration is now live for both 2023 Canadian Wrestling Championship events. WCL is once again using the Interpodia (2mev) system that AAWA uses for our membership registration. What this means is all AAWA members should already have a general account created. This comes in handy as your basic information is all stored and will save you a bit of time in the process. While some additional information/documents are still being collected this year by WCL\, outlined below\, much of it should be stored moving forward. Please have all your coaches\, athletes\, team leaders and officials complete the WCL Participant Registration and Event Registration as soon as possible to ensure they do not miss any deadlines. Everyone will have to complete the WCL Participant Registration prior to the event registration (the links are included below).\n\nWCL Participant Registration (Must Complete First): https://2mev.com/#!/memberships/wrestling-canada-lutte-2023\n\n\n2023 U15/U17/U19 Canadian Championships Athlete Registration Link:https://2mev.com/#!/events/2023-canadian-wrestling-championships-u19-u17-u15-athlete-registration\n\n2023 U15/U17/U19 Canadian Championships Support Staff Registration Link:https://2mev.com/#!/events/2023-canadian-wrestling-championships-u19-u17-u15-officials-coach-team-leader-medical-volunteer-registration\n\n\n\nDeadlines (Early Bird/Late):\n2023 U15/U17/U19 Canadian Championships: March 1/March 8\n\n\nA $100 sanction fee per participant will be invoiced to each club/independent member prior to the competition. This fee must be paid prior to the event to ensure sanctioning from AAWA and participation at the event\n\n\n\nFor Clubs looking to register have a team manager/coach register their athletes all at once:\n\nTeam Administrators may register multiple athletes for this event\, provided each athlete has a 2023 WCL Registration Profile. Team Administrators will require the following information from each athlete to proceed: First Name\, Last Name\, DOB\, Email. The shopping cart will be limited to approximately 20 registrations in any one sitting.\n\nAdditional Information/Documents needed for WCL Participant Registration (this will all save for 2024 and beyond)\n\n\nPassport-style photo for accreditation\nVulnerable Sector Check Document\nEnhanced Police Check Document\nDemographics Info\nClub Name\nNCCP Number\nCitizenship Status with Proof including one of the following options\n\nPassport (Photo and Signature Pages)\nGovernment-issued ID card and Birth Certificate\nPermanent Residence Card\nStatus Certificate\n\n\nRespect in Sport Certificate (if applicable)\nSafe Sport Screening Disclosure\nDigital Waivers\n\nNOTE: If you provide your Vulnerable Sector Check and Enhanced Police Check\, make sure to remove the MyBackCheck item from the cart when checking out. This only applies to those that need a check completed.
URL:https://aawa.ca/event/2023-canadian-wrestling-championships/
CATEGORIES:Tournaments
ATTACH;FMTTYPE=image/jpeg:https://aawa.ca/wp-content/uploads/2014/08/WCL-e1571862012870.jpg
END:VEVENT
BEGIN:VEVENT
DTSTART;VALUE=DATE:20230317
DTEND;VALUE=DATE:20230319
DTSTAMP:20260420T011019
CREATED:20220704T162436Z
LAST-MODIFIED:20220704T162436Z
UID:5084-1679011200-1679183999@aawa.ca
SUMMARY:2023 ASAA Provincial Championships
DESCRIPTION:2023 – ASAA Wrestling Provincials | Alberta Schools’ Athletic Association (click here)
URL:https://aawa.ca/event/2023-asaa-provincial-championships/
CATEGORIES:Tournaments
ATTACH;FMTTYPE=image/jpeg:https://aawa.ca/wp-content/uploads/2015/03/Unknown-1.jpeg
END:VEVENT
BEGIN:VEVENT
DTSTART;VALUE=DATE:20230309
DTEND;VALUE=DATE:20230313
DTSTAMP:20260420T011019
CREATED:20220704T160350Z
LAST-MODIFIED:20220704T160350Z
UID:5067-1678320000-1678665599@aawa.ca
SUMMARY:2023 Cadet/Junior/Senior Canadian Wrestling Championships
DESCRIPTION:Technical Package (click here) \nRegistration is now live for both 2023 Canadian Wrestling Championship events. WCL is once again using the Interpodia (2mev) system that AAWA uses for our membership registration. What this means is all AAWA members should already have a general account created. This comes in handy as your basic information is all stored and will save you a bit of time in the process. While some additional information/documents are still being collected this year by WCL\, outlined below\, much of it should be stored moving forward. Please have all your coaches\, athletes\, team leaders and officials complete the WCL Participant Registration and Event Registration as soon as possible to ensure they do not miss any deadlines. Everyone will have to complete the WCL Participant Registration prior to the event registration (the links are included below). \n  \nA $100 sanction fee per participant will be invoiced to each club/independent member prior to the competition. This fee must be paid prior to the event to ensure sanctioning from AAWA and participation at the event \n  \nWCL Participant Registration (Must Complete First): https://2mev.com/#!/memberships/wrestling-canada-lutte-2023 \n2023 Cadet/Junior/Senior Canadian Championships Athlete Registration Link: https://2mev.com/#!/events/2023-canadian-wrestling-championships-senior-junior-cadet-athlete-registration\n\n2023 Cadet/Junior/Senior Canadian Championships Support Staff Registration Link: https://2mev.com/#!/events/2023-canadian-wrestling-championships-senior-junior-cadet-officials-coach-team-leader-medical-volunteer-registration\n\n\nDeadlines (Early Bird/Late):\n2023 Cadet/Junior/Senior Canadian Championships: February 17/February 24\n\n\n\n\nFor Clubs looking to register have a team manager/coach register their athletes all at once:\n\nTeam Administrators may register multiple athletes for this event\, provided each athlete has a 2023 WCL Registration Profile. Team Administrators will require the following information from each athlete to proceed: First Name\, Last Name\, DOB\, Email. The shopping cart will be limited to approximately 20 registrations in any one sitting.\n\nAdditional Information/Documents needed for WCL Participant Registration (this will all save for 2024 and beyond)\n\n\nPassport-style photo for accreditation\nVulnerable Sector Check Document\nEnhanced Police Check Document\nDemographics Info\nClub Name\nNCCP Number\nCitizenship Status with Proof including one of the following options\n\nPassport (Photo and Signature Pages)\nGovernment-issued ID card and Birth Certificate\nPermanent Residence Card\nStatus Certificate\n\n\nRespect in Sport Certificate (if applicable)\nSafe Sport Screening Disclosure\nDigital Waivers\n\nNOTE: If you provide your Vulnerable Sector Check and Enhanced Police Check\, make sure to remove the MyBackCheck item from the cart when checking out. This only applies to those that need a check completed.
URL:https://aawa.ca/event/canadian-team-trials/
CATEGORIES:Tournaments
ATTACH;FMTTYPE=image/jpeg:https://aawa.ca/wp-content/uploads/2014/08/WCL-e1571862012870.jpg
END:VEVENT
BEGIN:VEVENT
DTSTART;VALUE=DATE:20230304
DTEND;VALUE=DATE:20230305
DTSTAMP:20260420T011019
CREATED:20221124T170249Z
LAST-MODIFIED:20221124T170249Z
UID:5292-1677888000-1677974399@aawa.ca
SUMMARY:2023 Western Canada Youth Wrestling Festival
DESCRIPTION:To Register\, Click Here
URL:https://aawa.ca/event/2023-western-canada-youth-wrestling-festival/
CATEGORIES:Tournaments
ATTACH;FMTTYPE=:
END:VEVENT
BEGIN:VEVENT
DTSTART;VALUE=DATE:20230224
DTEND;VALUE=DATE:20230226
DTSTAMP:20260420T011019
CREATED:20220704T163819Z
LAST-MODIFIED:20220704T163819Z
UID:5090-1677196800-1677369599@aawa.ca
SUMMARY:2023 U Sport Championships
DESCRIPTION:Information TBA
URL:https://aawa.ca/event/2023-u-sport-championships/
CATEGORIES:Tournaments
ATTACH;FMTTYPE=:
END:VEVENT
BEGIN:VEVENT
DTSTART;VALUE=DATE:20230224
DTEND;VALUE=DATE:20230226
DTSTAMP:20260420T011019
CREATED:20220704T162538Z
LAST-MODIFIED:20220704T162538Z
UID:5086-1677196800-1677369599@aawa.ca
SUMMARY:2023 ASAA Rural Championships
DESCRIPTION:Information TBA
URL:https://aawa.ca/event/2023-asaa-rural-championships/
CATEGORIES:Tournaments
ATTACH;FMTTYPE=image/jpeg:https://aawa.ca/wp-content/uploads/2015/03/Unknown-1.jpeg
END:VEVENT
BEGIN:VEVENT
DTSTART;VALUE=DATE:20230210
DTEND;VALUE=DATE:20230212
DTSTAMP:20260420T011019
CREATED:20221124T170428Z
LAST-MODIFIED:20221124T170428Z
UID:5294-1675987200-1676159999@aawa.ca
SUMMARY:2023 Churchill Classic
DESCRIPTION:Information TBA
URL:https://aawa.ca/event/2023-churchill-classic/
CATEGORIES:Tournaments
ATTACH;FMTTYPE=:
END:VEVENT
BEGIN:VEVENT
DTSTART;VALUE=DATE:20230210
DTEND;VALUE=DATE:20230212
DTSTAMP:20260420T011019
CREATED:20220704T163658Z
LAST-MODIFIED:20220704T163658Z
UID:5088-1675987200-1676159999@aawa.ca
SUMMARY:2023 Canada West Championships
DESCRIPTION:Information TBA
URL:https://aawa.ca/event/2023-canada-west-championships/
CATEGORIES:Tournaments
ATTACH;FMTTYPE=:
END:VEVENT
BEGIN:VEVENT
DTSTART;VALUE=DATE:20230204
DTEND;VALUE=DATE:20230206
DTSTAMP:20260420T011019
CREATED:20220824T152720Z
LAST-MODIFIED:20220824T152720Z
UID:5147-1675468800-1675641599@aawa.ca
SUMMARY:2023 Alberta Open
DESCRIPTION:Registration is now closed \n2023 Alberta Open Event Flyer (click here) \n2023 Alberta Open Age Class Waiver (click here) \n 
URL:https://aawa.ca/event/2023-alberta-open/
CATEGORIES:Tournaments
ATTACH;FMTTYPE=:
END:VEVENT
BEGIN:VEVENT
DTSTART;VALUE=DATE:20230129
DTEND;VALUE=DATE:20230205
DTSTAMP:20260420T011019
CREATED:20210809T171147Z
LAST-MODIFIED:20210809T171147Z
UID:4588-1674950400-1675555199@aawa.ca
SUMMARY:2023 Arctic Winter Games
DESCRIPTION:
URL:https://aawa.ca/event/2023-arctic-winter-games/
CATEGORIES:Tournaments
ATTACH;FMTTYPE=:
END:VEVENT
BEGIN:VEVENT
DTSTART;TZID=America/Edmonton:20230128T080000
DTEND;TZID=America/Edmonton:20230128T170000
DTSTAMP:20260420T011019
CREATED:20220704T165701Z
LAST-MODIFIED:20220704T165701Z
UID:5096-1674892800-1674925200@aawa.ca
SUMMARY:2023 Golden Bear JH/HS Invitational
DESCRIPTION:To Pre-Register\, click here (Due January 9\, 2023) \nFor pre-registration\, weights do not have to be exact\, but a general idea for numbers is required. \nSenior High is open to all ASAA and other provincially-sanctioned high school teams. \nJunior High is open to all junior high school teams and clubs. \n2023 Golden Bear JH/HS Invitational Event Flyer (click here)
URL:https://aawa.ca/event/2023-golden-bear-jh-hs-invitational/
CATEGORIES:Tournaments
ATTACH;FMTTYPE=image/gif:https://aawa.ca/wp-content/uploads/2014/10/fliplogo.gif
END:VEVENT
BEGIN:VEVENT
DTSTART;TZID=America/Edmonton:20230127T160000
DTEND;TZID=America/Edmonton:20230128T170000
DTSTAMP:20260420T011019
CREATED:20221101T195147Z
LAST-MODIFIED:20221101T195147Z
UID:5239-1674835200-1674925200@aawa.ca
SUMMARY:2023 Cobra Classic
DESCRIPTION:2023 Cobra Classic Event Flyer (click here)
URL:https://aawa.ca/event/2023-cobra-classic/
CATEGORIES:Tournaments
ATTACH;FMTTYPE=:
END:VEVENT
BEGIN:VEVENT
DTSTART;TZID=America/Edmonton:20230121T090000
DTEND;TZID=America/Edmonton:20230121T170000
DTSTAMP:20260420T011019
CREATED:20221124T170122Z
LAST-MODIFIED:20221124T170122Z
UID:5290-1674291600-1674320400@aawa.ca
SUMMARY:2023 Junior Olympics
DESCRIPTION:To Register\, Click Here
URL:https://aawa.ca/event/2023-junior-olympics/
CATEGORIES:Tournaments
ATTACH;FMTTYPE=:
END:VEVENT
BEGIN:VEVENT
DTSTART;TZID=America/Edmonton:20230114T100000
DTEND;TZID=America/Edmonton:20230115T120000
DTSTAMP:20260420T011019
CREATED:20230106T173025Z
LAST-MODIFIED:20230106T173025Z
UID:5336-1673690400-1673784000@aawa.ca
SUMMARY:2023 Arctic Winter Games Preparation Camp
DESCRIPTION:2023 Arctic Winter Games Preparation Camp Flyer (click here) \n2023 Arctic Winter Games Preparation Camp Waiver (click here)
URL:https://aawa.ca/event/2023-arctic-winter-games-preparation-camp/
CATEGORIES:Camps & Clinics
ATTACH;FMTTYPE=:
END:VEVENT
BEGIN:VEVENT
DTSTART;VALUE=DATE:20230113
DTEND;VALUE=DATE:20230115
DTSTAMP:20260420T011020
CREATED:20220704T165519Z
LAST-MODIFIED:20220704T165519Z
UID:5094-1673568000-1673740799@aawa.ca
SUMMARY:2023 Golden Bear Invitational
DESCRIPTION:
URL:https://aawa.ca/event/2023-golden-bear-invitational/
CATEGORIES:Tournaments
ATTACH;FMTTYPE=image/gif:https://aawa.ca/wp-content/uploads/2014/10/fliplogo.gif
END:VEVENT
BEGIN:VEVENT
DTSTART;TZID=America/Edmonton:20230107T143000
DTEND;TZID=America/Edmonton:20230108T170000
DTSTAMP:20260420T011020
CREATED:20220913T171756Z
LAST-MODIFIED:20220913T171756Z
UID:5178-1673101800-1673197200@aawa.ca
SUMMARY:2023 Dinos Cup Provincial Duals & Jurassic Classic
DESCRIPTION:2023 Dinos Cup and Jurassic Classic Event Flyer (click here) \nJurassic Classic & Dinos Cup Host Hotel Info (click here) – Book by December 3\, 2022 \n2023 Jurassic Classic Club Intent to Compete Form (click here) – Due December 16\, 2022 \n2023 Dinos Cup PTSO Intent to Compete Form (click here) – Due December 16\, 2022 \n2023 Dinos Cup Team Alberta Athlete Interest Form (click here) – Due December 16\, 2022 \n  \n 
URL:https://aawa.ca/event/2022dinos-cup-jurassic-classic/
CATEGORIES:Tournaments
ATTACH;FMTTYPE=image/jpeg:https://aawa.ca/wp-content/uploads/2014/10/Unknown-1.jpeg
END:VEVENT
BEGIN:VEVENT
DTSTART;VALUE=DATE:20230104
DTEND;VALUE=DATE:20230107
DTSTAMP:20260420T011020
CREATED:20221211T014816Z
LAST-MODIFIED:20221211T014816Z
UID:5310-1672790400-1673049599@aawa.ca
SUMMARY:2023 Dinos New Years Camp
DESCRIPTION:
URL:https://aawa.ca/event/2023-dinos-new-years-camp/
CATEGORIES:Camps & Clinics
ATTACH;FMTTYPE=image/jpeg:https://aawa.ca/wp-content/uploads/2014/10/Unknown-1.jpeg
END:VEVENT
BEGIN:VEVENT
DTSTART;TZID=America/Edmonton:20221209T150000
DTEND;TZID=America/Edmonton:20221210T170000
DTSTAMP:20260420T011020
CREATED:20220913T172042Z
LAST-MODIFIED:20220913T172042Z
UID:5181-1670598000-1670691600@aawa.ca
SUMMARY:2022 Pearson Rumble
DESCRIPTION:2022 Pearson Rumble Event Flyer (click here)
URL:https://aawa.ca/event/2022-pearson-rumble/
CATEGORIES:Tournaments
ATTACH;FMTTYPE=:
END:VEVENT
END:VCALENDAR